BEGIN:VCALENDAR
VERSION:2.0
PRODID:-//eventon.com NONSGML v1.0//EN
CALSCALE:GREGORIAN
METHOD:PUBLISH
BEGIN:VEVENT
UID:69e4f1436ca69
DTSTAMP:20260419T151411Z
DTSTART:20260314T100000Z
DTEND:20260314T120000Z
LOCATION:
SUMMARY:Waterston Farm Shop
DESCRIPTION:Waterston Farm Shop\nhttps://lizziebakingbird.co.uk/events/wate
 rston-farm-shop/
URL:https://lizziebakingbird.co.uk/events/waterston-farm-shop/
END:VEVENT
END:VCALENDAR