BEGIN:VCALENDAR
VERSION:2.0
PRODID:-//eventon.com NONSGML v1.0//EN
CALSCALE:GREGORIAN
METHOD:PUBLISH
BEGIN:VEVENT
UID:69e4c2e0a437d
DTSTAMP:20260419T115616Z
DTSTART:20191117T120000Z
DTEND:20191117T160000Z
LOCATION:
SUMMARY:Feasting Festive Flavours
DESCRIPTION:Feasting Festive Flavours\nhttps://lizziebakingbird.co.uk/event
 s/feasting-festive-flavours/
URL:https://lizziebakingbird.co.uk/events/feasting-festive-flavours/
END:VEVENT
END:VCALENDAR