BEGIN:VCALENDAR
VERSION:2.0
PRODID:-//eventon.com NONSGML v1.0//EN
CALSCALE:GREGORIAN
METHOD:PUBLISH
BEGIN:VEVENT
UID:69e80cc95dc25
DTSTAMP:20260421T234825Z
DTSTART:20200306T180000Z
DTEND:20200306T210000Z
LOCATION:
SUMMARY:The Royal Standard - Upwey
DESCRIPTION:The Royal Standard - Upwey\nhttps://lizziebakingbird.co.uk/even
 ts/the-royal-standard-upwey/
URL:https://lizziebakingbird.co.uk/events/the-royal-standard-upwey/
END:VEVENT
END:VCALENDAR