BEGIN:VCALENDAR
VERSION:2.0
PRODID:-//eventon.com NONSGML v1.0//EN
CALSCALE:GREGORIAN
METHOD:PUBLISH
BEGIN:VEVENT
UID:69e7814c55196
DTSTAMP:20260421T135316Z
DTSTART:20180908
DTEND:20180909
LOCATION:
SUMMARY:Sturminster Cheese Festival
DESCRIPTION:Sturminster Cheese Festival\nhttps://lizziebakingbird.co.uk/eve
 nts/sturminster-cheese-festival/
URL:https://lizziebakingbird.co.uk/events/sturminster-cheese-festival/
END:VEVENT
END:VCALENDAR